BEGIN:VCALENDAR
VERSION:2.0
PRODID:icalendar-ruby
CALSCALE:GREGORIAN
METHOD:PUBLISH
BEGIN:VEVENT
DTSTAMP:20260424T135818Z
UID:9-559815@corninghouseofprayer.com
DTSTART:20261018T230000Z
DTEND:20261019T003000Z
CLASS:PUBLIC
CREATED:20260424T065700
DESCRIPTION:
LAST-MODIFIED:20260424T065700
LOCATION:
SUMMARY:Sunday Evening Prayer
URL;VALUE=URI:https://www.corninghouseofprayer.com/events/sunday-evening-pr
 ayer/2026-10-18
END:VEVENT
END:VCALENDAR
