BEGIN:VCALENDAR
VERSION:2.0
PRODID:icalendar-ruby
CALSCALE:GREGORIAN
METHOD:PUBLISH
BEGIN:VEVENT
DTSTAMP:20260424T082701Z
UID:9-559400@corninghouseofprayer.com
DTSTART:20260927T230000Z
DTEND:20260928T003000Z
CLASS:PUBLIC
CREATED:20260423T212835
DESCRIPTION:
LAST-MODIFIED:20260423T212835
LOCATION:
SUMMARY:Sunday Evening Prayer
URL;VALUE=URI:https://www.corninghouseofprayer.com/events/sunday-evening-pr
 ayer/2026-09-27
END:VEVENT
END:VCALENDAR
