BEGIN:VCALENDAR
VERSION:2.0
PRODID:icalendar-ruby
CALSCALE:GREGORIAN
METHOD:PUBLISH
BEGIN:VEVENT
DTSTAMP:20260424T051442Z
UID:9-559398@corninghouseofprayer.com
DTSTART:20260913T230000Z
DTEND:20260914T003000Z
CLASS:PUBLIC
CREATED:20260423T212835
DESCRIPTION:
LAST-MODIFIED:20260423T212835
LOCATION:
SUMMARY:Sunday Evening Prayer
URL;VALUE=URI:https://www.corninghouseofprayer.com/events/sunday-evening-pr
 ayer/2026-09-13
END:VEVENT
END:VCALENDAR
