BEGIN:VCALENDAR
VERSION:2.0
PRODID:icalendar-ruby
CALSCALE:GREGORIAN
METHOD:PUBLISH
BEGIN:VEVENT
DTSTAMP:20260424T003514Z
UID:9-558983@corninghouseofprayer.com
DTSTART:20260823T230000Z
DTEND:20260824T003000Z
CLASS:PUBLIC
CREATED:20260423T183431
DESCRIPTION:
LAST-MODIFIED:20260423T183431
LOCATION:
SUMMARY:Sunday Evening Prayer
URL;VALUE=URI:https://www.corninghouseofprayer.com/events/sunday-evening-pr
 ayer/2026-08-23
END:VEVENT
END:VCALENDAR
