BEGIN:VCALENDAR
VERSION:2.0
PRODID:icalendar-ruby
CALSCALE:GREGORIAN
METHOD:PUBLISH
BEGIN:VEVENT
DTSTAMP:20260423T224728Z
UID:9-558570@corninghouseofprayer.com
DTSTART:20260816T230000Z
DTEND:20260817T003000Z
CLASS:PUBLIC
CREATED:20260423T154053
DESCRIPTION:
LAST-MODIFIED:20260423T154053
LOCATION:
SUMMARY:Sunday Evening Prayer
URL;VALUE=URI:https://www.corninghouseofprayer.com/events/sunday-evening-pr
 ayer/2026-08-16
END:VEVENT
END:VCALENDAR
