BEGIN:VCALENDAR
VERSION:2.0
PRODID:icalendar-ruby
CALSCALE:GREGORIAN
METHOD:PUBLISH
BEGIN:VEVENT
DTSTAMP:20260423T183010Z
UID:9-558156@corninghouseofprayer.com
DTSTART:20260802T230000Z
DTEND:20260803T003000Z
CLASS:PUBLIC
CREATED:20260423T124506
DESCRIPTION:
LAST-MODIFIED:20260423T124506
LOCATION:
SUMMARY:Sunday Evening Prayer
URL;VALUE=URI:https://www.corninghouseofprayer.com/events/sunday-evening-pr
 ayer/2026-08-02
END:VEVENT
END:VCALENDAR
