BEGIN:VCALENDAR
VERSION:2.0
PRODID:icalendar-ruby
CALSCALE:GREGORIAN
METHOD:PUBLISH
BEGIN:VEVENT
DTSTAMP:20260423T152721Z
UID:9-557742@corninghouseofprayer.com
DTSTART:20260719T230000Z
DTEND:20260720T003000Z
CLASS:PUBLIC
CREATED:20260423T094932
DESCRIPTION:
LAST-MODIFIED:20260423T094932
LOCATION:
SUMMARY:Sunday Evening Prayer
URL;VALUE=URI:https://www.corninghouseofprayer.com/events/sunday-evening-pr
 ayer/2026-07-19
END:VEVENT
END:VCALENDAR
