BEGIN:VCALENDAR
VERSION:2.0
PRODID:icalendar-ruby
CALSCALE:GREGORIAN
METHOD:PUBLISH
BEGIN:VEVENT
DTSTAMP:20260423T102452Z
UID:9-556915@corninghouseofprayer.com
DTSTART:20260628T230000Z
DTEND:20260629T003000Z
CLASS:PUBLIC
CREATED:20260422T212625
DESCRIPTION:
LAST-MODIFIED:20260422T212625
LOCATION:
SUMMARY:Sunday Evening Prayer
URL;VALUE=URI:https://www.corninghouseofprayer.com/events/sunday-evening-pr
 ayer/2026-06-28
END:VEVENT
END:VCALENDAR
