BEGIN:VCALENDAR
VERSION:2.0
PRODID:icalendar-ruby
CALSCALE:GREGORIAN
METHOD:PUBLISH
BEGIN:VEVENT
DTSTAMP:20260420T234622Z
UID:9-551569@corninghouseofprayer.com
DTSTART:20260614T230000Z
DTEND:20260615T003000Z
CLASS:PUBLIC
CREATED:20260420T170215
DESCRIPTION:
LAST-MODIFIED:20260420T170215
LOCATION:
SUMMARY:Sunday Evening Prayer
URL;VALUE=URI:https://www.corninghouseofprayer.com/events/sunday-evening-pr
 ayer/2026-06-14
END:VEVENT
END:VCALENDAR
