BEGIN:VCALENDAR
VERSION:2.0
PRODID:icalendar-ruby
CALSCALE:GREGORIAN
METHOD:PUBLISH
BEGIN:VEVENT
DTSTAMP:20260420T221624Z
UID:9-551568@corninghouseofprayer.com
DTSTART:20260607T230000Z
DTEND:20260608T003000Z
CLASS:PUBLIC
CREATED:20260420T170215
DESCRIPTION:
LAST-MODIFIED:20260420T170215
LOCATION:
SUMMARY:Sunday Evening Prayer
URL;VALUE=URI:https://www.corninghouseofprayer.com/events/sunday-evening-pr
 ayer/2026-06-07
END:VEVENT
END:VCALENDAR
