BEGIN:VCALENDAR
VERSION:2.0
PRODID:icalendar-ruby
CALSCALE:GREGORIAN
METHOD:PUBLISH
BEGIN:VEVENT
DTSTAMP:20260420T205311Z
UID:9-551156@corninghouseofprayer.com
DTSTART:20260531T230000Z
DTEND:20260601T003000Z
CLASS:PUBLIC
CREATED:20260420T142616
DESCRIPTION:
LAST-MODIFIED:20260420T142616
LOCATION:
SUMMARY:Sunday Evening Prayer
URL;VALUE=URI:https://www.corninghouseofprayer.com/events/sunday-evening-pr
 ayer/2026-05-31
END:VEVENT
END:VCALENDAR
