BEGIN:VCALENDAR
VERSION:2.0
PRODID:icalendar-ruby
CALSCALE:GREGORIAN
METHOD:PUBLISH
BEGIN:VEVENT
DTSTAMP:20260420T174237Z
UID:9-550743@corninghouseofprayer.com
DTSTART:20260517T230000Z
DTEND:20260518T003000Z
CLASS:PUBLIC
CREATED:20260420T115134
DESCRIPTION:
LAST-MODIFIED:20260420T115134
LOCATION:
SUMMARY:Sunday Evening Prayer
URL;VALUE=URI:https://www.corninghouseofprayer.com/events/sunday-evening-pr
 ayer/2026-05-17
END:VEVENT
END:VCALENDAR
