BEGIN:VCALENDAR
VERSION:2.0
PRODID:icalendar-ruby
CALSCALE:GREGORIAN
METHOD:PUBLISH
BEGIN:VEVENT
DTSTAMP:20260420T161548Z
UID:9-550331@corninghouseofprayer.com
DTSTART:20260510T230000Z
DTEND:20260511T003000Z
CLASS:PUBLIC
CREATED:20260420T091738
DESCRIPTION:
LAST-MODIFIED:20260420T091738
LOCATION:
SUMMARY:Sunday Evening Prayer
URL;VALUE=URI:https://www.corninghouseofprayer.com/events/sunday-evening-pr
 ayer/2026-05-10
END:VEVENT
END:VCALENDAR
